BEGIN:VCALENDAR
VERSION:2.0
PRODID:-//Treatment Professionals in Alumni Services - ECPv6.15.17.1//NONSGML v1.0//EN
CALSCALE:GREGORIAN
METHOD:PUBLISH
X-WR-CALNAME:Treatment Professionals in Alumni Services
X-ORIGINAL-URL:https://www.tpas.org
X-WR-CALDESC:Events for Treatment Professionals in Alumni Services
REFRESH-INTERVAL;VALUE=DURATION:PT1H
X-Robots-Tag:noindex
X-PUBLISHED-TTL:PT1H
BEGIN:VTIMEZONE
TZID:America/Los_Angeles
BEGIN:DAYLIGHT
TZOFFSETFROM:-0800
TZOFFSETTO:-0700
TZNAME:PDT
DTSTART:20160313T100000
END:DAYLIGHT
BEGIN:STANDARD
TZOFFSETFROM:-0700
TZOFFSETTO:-0800
TZNAME:PST
DTSTART:20161106T090000
END:STANDARD
BEGIN:DAYLIGHT
TZOFFSETFROM:-0800
TZOFFSETTO:-0700
TZNAME:PDT
DTSTART:20170312T100000
END:DAYLIGHT
BEGIN:STANDARD
TZOFFSETFROM:-0700
TZOFFSETTO:-0800
TZNAME:PST
DTSTART:20171105T090000
END:STANDARD
BEGIN:DAYLIGHT
TZOFFSETFROM:-0800
TZOFFSETTO:-0700
TZNAME:PDT
DTSTART:20180311T100000
END:DAYLIGHT
BEGIN:STANDARD
TZOFFSETFROM:-0700
TZOFFSETTO:-0800
TZNAME:PST
DTSTART:20181104T090000
END:STANDARD
BEGIN:DAYLIGHT
TZOFFSETFROM:-0800
TZOFFSETTO:-0700
TZNAME:PDT
DTSTART:20190310T100000
END:DAYLIGHT
BEGIN:STANDARD
TZOFFSETFROM:-0700
TZOFFSETTO:-0800
TZNAME:PST
DTSTART:20191103T090000
END:STANDARD
BEGIN:DAYLIGHT
TZOFFSETFROM:-0800
TZOFFSETTO:-0700
TZNAME:PDT
DTSTART:20200308T100000
END:DAYLIGHT
BEGIN:STANDARD
TZOFFSETFROM:-0700
TZOFFSETTO:-0800
TZNAME:PST
DTSTART:20201101T090000
END:STANDARD
BEGIN:DAYLIGHT
TZOFFSETFROM:-0800
TZOFFSETTO:-0700
TZNAME:PDT
DTSTART:20210314T100000
END:DAYLIGHT
BEGIN:STANDARD
TZOFFSETFROM:-0700
TZOFFSETTO:-0800
TZNAME:PST
DTSTART:20211107T090000
END:STANDARD
END:VTIMEZONE
BEGIN:VTIMEZONE
TZID:America/Chicago
BEGIN:DAYLIGHT
TZOFFSETFROM:-0600
TZOFFSETTO:-0500
TZNAME:CDT
DTSTART:20170312T080000
END:DAYLIGHT
BEGIN:STANDARD
TZOFFSETFROM:-0500
TZOFFSETTO:-0600
TZNAME:CST
DTSTART:20171105T070000
END:STANDARD
BEGIN:DAYLIGHT
TZOFFSETFROM:-0600
TZOFFSETTO:-0500
TZNAME:CDT
DTSTART:20180311T080000
END:DAYLIGHT
BEGIN:STANDARD
TZOFFSETFROM:-0500
TZOFFSETTO:-0600
TZNAME:CST
DTSTART:20181104T070000
END:STANDARD
BEGIN:DAYLIGHT
TZOFFSETFROM:-0600
TZOFFSETTO:-0500
TZNAME:CDT
DTSTART:20190310T080000
END:DAYLIGHT
BEGIN:STANDARD
TZOFFSETFROM:-0500
TZOFFSETTO:-0600
TZNAME:CST
DTSTART:20191103T070000
END:STANDARD
END:VTIMEZONE
BEGIN:VTIMEZONE
TZID:UTC
BEGIN:STANDARD
TZOFFSETFROM:+0000
TZOFFSETTO:+0000
TZNAME:UTC
DTSTART:20160101T000000
END:STANDARD
END:VTIMEZONE
BEGIN:VEVENT
DTSTART;VALUE=DATE:20201004
DTEND;VALUE=DATE:20201008
DTSTAMP:20260420T212950
CREATED:20191009T015347Z
LAST-MODIFIED:20200327T181022Z
UID:10000014-1601769600-1602115199@www.tpas.org
SUMMARY:2020 Fall Collaborative
DESCRIPTION:Event Sponsor\n\nYOU’LL GET THE RESOURCES\, EDUCATION AND CONNECTION WITH COLLEAGUES THAT WILL HELP YOU CREATE ROBUST RECOVERY PROGRAMS FOR YOUR ALUMNI AND CLIENTS. \nTPAS invites all alumni and recovery support professionals to come with their ideas\, questions and challenges. At the TPAS Collaborative\, Open Space Technology is our special approach that favors active participation and collaboration rather than constraining agendas and lectures. Come with questions\, ideas\, thoughts\, concerns\, road blocks\, difficulties and together we will continue creating best practices for alumni services and recovery support. \nNon Member and Member pricing includes a room\, breakfast\, and lunch each day. Commuter pricing includes meals but you will need to find lodging in the area. Charter Members\, please contact us for your coupon. \nRefund Policy: All cancellations will be subject to a $100.00 administrative fee. Any cancellation after September 4th\, 2020 will be non-refundable\, although you may send another representative from your organization. \nPricing\nDeposit \nLock in your spot! In past years we’ve had enormous demand when there has been only one collaborative that year. This non-refundable deposit saves your spot. \n$100.00Add to cart	\n			\n \n\nNon-Members \n$1\,190.00Add to cart	\n			\n \n\nMembers \n$990.00Add to cart	\n			\n \n\nCommuter Price\n$765.00Add to cart	\n			\n  \n \n\n \n  \n\n  \n\nPlease contact us for more sponsorship opportunities for this collaborative 
URL:https://www.tpas.org/event/2020-fall-collaborative/
LOCATION:Serra Retreat Center\, 3401 Serra Rd.\, Malibu\, CA\, 90265\, United States
ATTACH;FMTTYPE=image/jpeg:https://www.tpas.org/wp-content/uploads/2019/04/IMG_8675.jpg
GEO:34.0451268;-118.6818947
X-APPLE-STRUCTURED-LOCATION;VALUE=URI;X-ADDRESS=Serra Retreat Center 3401 Serra Rd. Malibu CA 90265 United States;X-APPLE-RADIUS=500;X-TITLE=3401 Serra Rd.:geo:-118.6818947,34.0451268
END:VEVENT
BEGIN:VEVENT
DTSTART;VALUE=DATE:20191006
DTEND;VALUE=DATE:20191010
DTSTAMP:20260420T212950
CREATED:20190418T162226Z
LAST-MODIFIED:20190821T170145Z
UID:10000026-1570320000-1570665599@www.tpas.org
SUMMARY:2019 Fall Collaborative
DESCRIPTION:Non Member and Member pricing includes a room\, breakfast\, and lunch each day. Commuter pricing includes meals but you will need to find lodging in the area. Charter Members\, please contact us for your coupon. \nRefund Policy: All cancellations will be subject to a $100.00 administrative fee. Any cancellation after September 16th\, 2019 will be non-refundable\, although you may send another representative from your organization. \nPricing\nNon-Members \n$1\,190.00Add to cart	\n			\n \n\nMembers \n$990.00Add to cart	\n			\n \n\nCommuter Price\n$765.00Add to cart	\n			\n  \nSerra Retreat Center:\n \n\n2019 Title Sponsor:\n \n  \n  \n  \n\n  \n\nPlease contact us for more sponsorship opportunities for this collaborative 
URL:https://www.tpas.org/event/2019-fall-collaborative/
LOCATION:Serra Retreat Center\, 3401 Serra Rd.\, Malibu\, CA\, 90265\, United States
ATTACH;FMTTYPE=image/jpeg:https://www.tpas.org/wp-content/uploads/2019/04/IMG_8675.jpg
GEO:34.0451268;-118.6818947
X-APPLE-STRUCTURED-LOCATION;VALUE=URI;X-ADDRESS=Serra Retreat Center 3401 Serra Rd. Malibu CA 90265 United States;X-APPLE-RADIUS=500;X-TITLE=3401 Serra Rd.:geo:-118.6818947,34.0451268
END:VEVENT
BEGIN:VEVENT
DTSTART;TZID=America/Los_Angeles:20190414T170000
DTEND;TZID=America/Los_Angeles:20190417T150000
DTSTAMP:20260420T212950
CREATED:20181010T214502Z
LAST-MODIFIED:20190206T190917Z
UID:10000025-1555261200-1555513200@www.tpas.org
SUMMARY:2019 Spring Collaborative
DESCRIPTION:[box size=”large”]Non Member and Member pricing includes a room\, breakfast\, and lunch each day. Commuter pricing includes meals but you will need to find lodging in the area. Charter Members\, please contact us for your coupon.[/box] \nRefund Policy: All cancellations will be subject to a $100.00 administrative fee. Any cancellation after March 14\, 2019 will be non-refundable\, although you may send another representative from your organization. \nPricing\nNon-Members – $1190 \n$1\,190.00Read more	\n			\n \n\nMembers – $990 \n$990.00Read more	\n			\n \n\nCommuter Price – $765\n$765.00Read more	\n			\n  \n\n[box type=”info” size=”large” border=”full”]Please contact us for more sponsorship opportunities for this collaborative [/box]
URL:https://www.tpas.org/event/2019-spring-collaborative/
LOCATION:Sandy Cove Ministries\, 60 Sandy Cove Road\, North East\, MD\, 21901\, United States
END:VEVENT
BEGIN:VEVENT
DTSTART;VALUE=DATE:20181007
DTEND;VALUE=DATE:20181011
DTSTAMP:20260420T212950
CREATED:20180208T011435Z
LAST-MODIFIED:20180628T002321Z
UID:10000015-1538870400-1539215999@www.tpas.org
SUMMARY:2018 Fall Collaborative
DESCRIPTION:[box size=”large”]Non Member and Member pricing includes a room\, breakfast\, and lunch each day. Commuter pricing includes meals but you will need to find lodging in the area. Charter Members\, please contact us for your coupon.[/box] \nRefund Policy: All cancellations will be subject to a $100.00 administrative fee. Any cancellation after September 7\, 2018 will be non-refundable\, although you may send another representative from your organization. \nPricing\nNon-Members – $1190 \n$1\,190.00Read more	\n			\n \n\nMembers – $990 \n$990.00Read more	\n			\n \n\nCommuter Price – $765\n$765.00Read more	\n			\n  \nSerra Retreat Center:\n \n\n2018 Title Sponsor:\n \n  \n  \n  \n\n  \n\nSupporting Sponsor:\n \n  \n\n[box type=”info” size=”large” border=”full”]Please contact us for more sponsorship opportunities for this collaborative [/box]
URL:https://www.tpas.org/event/2018-fall-collaborative/
LOCATION:Serra Retreat Center\, 3401 Serra Rd.\, Malibu\, CA\, 90265\, United States
GEO:34.0451268;-118.6818947
X-APPLE-STRUCTURED-LOCATION;VALUE=URI;X-ADDRESS=Serra Retreat Center 3401 Serra Rd. Malibu CA 90265 United States;X-APPLE-RADIUS=500;X-TITLE=3401 Serra Rd.:geo:-118.6818947,34.0451268
END:VEVENT
BEGIN:VEVENT
DTSTART;VALUE=DATE:20180415
DTEND;VALUE=DATE:20180419
DTSTAMP:20260420T212950
CREATED:20171117T011254Z
LAST-MODIFIED:20180208T074036Z
UID:10000016-1523750400-1524095999@www.tpas.org
SUMMARY:2018 Spring Collaborative
DESCRIPTION:[box size=”large”]Non Member and Member pricing includes a room for Sunday\, Monday\, and Tuesday nights. Breakfast from Monday-Wednesday and lunch on Monday and Tuesday is included. Commuter pricing includes meals but you will need to find lodging in the area. Charter Members\, please contact us for your coupon.[/box] \nRefund Policy: All cancellations will be subject to a $100.00 administrative fee. Any cancellation after March 15\, 2018 will be non-refundable\, although substitutions are allowed. \nSchedule: The Collaborative begins at 5:00 pm on Sunday evening and ends at noon on Wednesday. Please don’t leave early! Our programming and send off on Wednesday is something you will not want to miss! \nPricing\nNon-Members – $1190\n$1\,190.00Read more	\n			\n  \n\nMembers – $990 \n$990.00Read more	\n			\n \n\nCommuter Price – $765\n$765.00Read more	\n			\n  \n\nHoly Name Passionist Retreat Center:\n \n\nThe 2018 Title Sponsor:\n \n  \n  \n  \n\n\n\n[box type=”info” size=”large” border=”full”]Please contact us for more sponsorship opportunities for this collaborative [/box]
URL:https://www.tpas.org/event/2018-spring-collaborative/
LOCATION:Holy Name Passionist Retreat Center\, 430 Bunker Hill Rd\, Houston\, TX\, 77024\, United States
GEO:29.7651078;-95.5280183
X-APPLE-STRUCTURED-LOCATION;VALUE=URI;X-ADDRESS=Holy Name Passionist Retreat Center 430 Bunker Hill Rd Houston TX 77024 United States;X-APPLE-RADIUS=500;X-TITLE=430 Bunker Hill Rd:geo:-95.5280183,29.7651078
END:VEVENT
BEGIN:VEVENT
DTSTART;VALUE=DATE:20171015
DTEND;VALUE=DATE:20171019
DTSTAMP:20260420T212950
CREATED:20170322T052737Z
LAST-MODIFIED:20170923T213415Z
UID:10000017-1508025600-1508371199@www.tpas.org
SUMMARY:2017 Fall Collaborative
DESCRIPTION:[box size=”large”]Non Member and Member pricing includes a room\, breakfast\, and lunch each day. Commuter pricing includes meals but you will need to find lodging in the area. Charter Members\, please contact us for your coupon.[/box] \nRefund Policy: All cancellations will be subject to a $100.00 administrative fee. Any cancellation after September 15\, 2017 will be non-refundable\, although substitutions are allowed. \nPricing\nNon-Members – $1210\n$1\,210.00Read more	\n			\n  \n\nMembers – $1010 \n$1\,010.00Read more	\n			\n \n\nCommuter Price – $765\n$765.00Read more	\n			\n  \n\nSerra Retreat Center:\n \n\nThe 2017 Title Sponsor:\n \n  \n  \n  \n\n\nCollaborative Sponsor:\n\n  \n\n[box type=”info” size=”large” border=”full”]Please contact us for more sponsorship opportunities for this collaborative [/box]
URL:https://www.tpas.org/event/2017-fall-collaborative/
LOCATION:Serra Retreat Center\, 3401 Serra Rd.\, Malibu\, CA\, 90265\, United States
GEO:34.0451268;-118.6818947
X-APPLE-STRUCTURED-LOCATION;VALUE=URI;X-ADDRESS=Serra Retreat Center 3401 Serra Rd. Malibu CA 90265 United States;X-APPLE-RADIUS=500;X-TITLE=3401 Serra Rd.:geo:-118.6818947,34.0451268
END:VEVENT
BEGIN:VEVENT
DTSTART;VALUE=DATE:20170409
DTEND;VALUE=DATE:20170413
DTSTAMP:20260420T212950
CREATED:20161102T021334Z
LAST-MODIFIED:20161203T234647Z
UID:10000018-1491696000-1492041599@www.tpas.org
SUMMARY:2017 Spring Collaborative
DESCRIPTION:  \n[box size=”large”]Non Member and Member pricing includes a room\, breakfast\, and lunch each day. Commuter pricing includes meals but you will need to find lodging in the area. Charter Members\, please contact us for your coupon.[/box] \nRefund Policy: All cancellations will be subject to a $100.00 administrative fee. Any cancellation after March 1\, 2017 will be non-refundable\, although substitutions are allowed. \nPricing\nNon-Members – $1315 $1215 if you register before January 1st\, 2017. \n$1\,315.00Read more	\n			\n \n\nMembers – $1115 $1015 if you register before January 1st\, 2017. \n$1\,115.00Read more	\n			\n \n\nCommuter Price – $995\n$995.00Read more	\n			\n  \n\nFounder’s Inn:\n \n\nThe 2017 Title Sponsor:\n \n\nCollaborative Sponsors:\n \n\nSupporting Sponsors:\n \n  \n[box type=”info” size=”large” border=”full”]Please contact us for more sponsorship opportunities for this collaborative [/box]
URL:https://www.tpas.org/event/2017-spring-collaborative/
LOCATION:Founders Inn\, 5641 Indian River Rd\, Virginia Beach\, VA\, 23464\, United States
GEO:36.8035379;-76.1918056
X-APPLE-STRUCTURED-LOCATION;VALUE=URI;X-ADDRESS=Founders Inn 5641 Indian River Rd Virginia Beach VA 23464 United States;X-APPLE-RADIUS=500;X-TITLE=5641 Indian River Rd:geo:-76.1918056,36.8035379
END:VEVENT
END:VCALENDAR