BEGIN:VCALENDAR
VERSION:2.0
PRODID:-//Treatment Professionals in Alumni Services - ECPv6.15.17.1//NONSGML v1.0//EN
CALSCALE:GREGORIAN
METHOD:PUBLISH
X-ORIGINAL-URL:https://www.tpas.org
X-WR-CALDESC:Events for Treatment Professionals in Alumni Services
REFRESH-INTERVAL;VALUE=DURATION:PT1H
X-Robots-Tag:noindex
X-PUBLISHED-TTL:PT1H
BEGIN:VTIMEZONE
TZID:America/Chicago
BEGIN:DAYLIGHT
TZOFFSETFROM:-0600
TZOFFSETTO:-0500
TZNAME:CDT
DTSTART:20170312T080000
END:DAYLIGHT
BEGIN:STANDARD
TZOFFSETFROM:-0500
TZOFFSETTO:-0600
TZNAME:CST
DTSTART:20171105T070000
END:STANDARD
BEGIN:DAYLIGHT
TZOFFSETFROM:-0600
TZOFFSETTO:-0500
TZNAME:CDT
DTSTART:20180311T080000
END:DAYLIGHT
BEGIN:STANDARD
TZOFFSETFROM:-0500
TZOFFSETTO:-0600
TZNAME:CST
DTSTART:20181104T070000
END:STANDARD
BEGIN:DAYLIGHT
TZOFFSETFROM:-0600
TZOFFSETTO:-0500
TZNAME:CDT
DTSTART:20190310T080000
END:DAYLIGHT
BEGIN:STANDARD
TZOFFSETFROM:-0500
TZOFFSETTO:-0600
TZNAME:CST
DTSTART:20191103T070000
END:STANDARD
END:VTIMEZONE
BEGIN:VEVENT
DTSTART;VALUE=DATE:20180415
DTEND;VALUE=DATE:20180419
DTSTAMP:20260421T021404
CREATED:20171117T011254Z
LAST-MODIFIED:20180208T074036Z
UID:10000016-1523750400-1524095999@www.tpas.org
SUMMARY:2018 Spring Collaborative
DESCRIPTION:[box size=”large”]Non Member and Member pricing includes a room for Sunday\, Monday\, and Tuesday nights. Breakfast from Monday-Wednesday and lunch on Monday and Tuesday is included. Commuter pricing includes meals but you will need to find lodging in the area. Charter Members\, please contact us for your coupon.[/box] \nRefund Policy: All cancellations will be subject to a $100.00 administrative fee. Any cancellation after March 15\, 2018 will be non-refundable\, although substitutions are allowed. \nSchedule: The Collaborative begins at 5:00 pm on Sunday evening and ends at noon on Wednesday. Please don’t leave early! Our programming and send off on Wednesday is something you will not want to miss! \nPricing\nNon-Members – $1190\n$1\,190.00Read more	\n			\n  \n\nMembers – $990 \n$990.00Read more	\n			\n \n\nCommuter Price – $765\n$765.00Read more	\n			\n  \n\nHoly Name Passionist Retreat Center:\n \n\nThe 2018 Title Sponsor:\n \n  \n  \n  \n\n\n\n[box type=”info” size=”large” border=”full”]Please contact us for more sponsorship opportunities for this collaborative [/box]
URL:https://www.tpas.org/event/2018-spring-collaborative/
LOCATION:Holy Name Passionist Retreat Center\, 430 Bunker Hill Rd\, Houston\, TX\, 77024\, United States
GEO:29.7651078;-95.5280183
X-APPLE-STRUCTURED-LOCATION;VALUE=URI;X-ADDRESS=Holy Name Passionist Retreat Center 430 Bunker Hill Rd Houston TX 77024 United States;X-APPLE-RADIUS=500;X-TITLE=430 Bunker Hill Rd:geo:-95.5280183,29.7651078
END:VEVENT
END:VCALENDAR